BEGIN:VCALENDAR
VERSION:2.0
PRODID:-//Plone.org//NONSGML plone.app.event//EN
X-WR-TIMEZONE:Europe/Madrid
BEGIN:VEVENT
SUMMARY:Cercavila de Gegants
DTSTART;TZID=Europe/Madrid;VALUE=DATE-TIME:20110910T180000
DTEND;TZID=Europe/Madrid;VALUE=DATE-TIME:20110910T190000
DTSTAMP;VALUE=DATE-TIME:20260422T100258Z
UID:37b2abce21e857a2cc41b810d78e876d
CREATED;VALUE=DATE-TIME:20110910T000000Z
LOCATION:vegeu itinerari
ORGANIZER:Colla de Geganters i Grallers de Caldes d'Estrac
URL:https://caldetes.cat/document.php?id=1349
END:VEVENT
END:VCALENDAR