BEGIN:VCALENDAR
VERSION:2.0
PRODID:-//Plone.org//NONSGML plone.app.event//EN
X-WR-TIMEZONE:Europe/Madrid
BEGIN:VEVENT
SUMMARY:Ball de gala amb La Principal de la Bisbal
DTSTART;TZID=Europe/Madrid;VALUE=DATE-TIME:20110910T233000
DTEND;TZID=Europe/Madrid;VALUE=DATE-TIME:20110911T003000
DTSTAMP;VALUE=DATE-TIME:20260425T003339Z
UID:c70a69a6f4fa52ee50b14cb60cc999c2
CREATED;VALUE=DATE-TIME:20110910T000000Z
LOCATION:Esplanada Can Muntanyà
ORGANIZER:Ajuntament de Caldes d'Estrac
URL:https://caldetes.cat/document.php?id=1351
END:VEVENT
END:VCALENDAR