BEGIN:VCALENDAR
VERSION:2.0
PRODID:-//Plone.org//NONSGML plone.app.event//EN
X-WR-TIMEZONE:Europe/Madrid
BEGIN:VEVENT
SUMMARY:Recepció a l'ofrena floral de la Diada Nacional de Catalunya
DTSTART;TZID=Europe/Madrid;VALUE=DATE-TIME:20110911T123000
DTEND;TZID=Europe/Madrid;VALUE=DATE-TIME:20110911T133000
DTSTAMP;VALUE=DATE-TIME:20260420T051123Z
UID:1887d50ad5920b892307689cd96b96ec
CREATED;VALUE=DATE-TIME:20110911T000000Z
LOCATION:Pèrgola Can Muntanyà
ORGANIZER:Ajuntament de Caldes d'Estrac
URL:https://caldetes.cat/document.php?id=1352
END:VEVENT
END:VCALENDAR