BEGIN:VCALENDAR
VERSION:2.0
PRODID:-//Plone.org//NONSGML plone.app.event//EN
X-WR-TIMEZONE:Europe/Madrid
BEGIN:VEVENT
SUMMARY:Correfoc
DTSTART;TZID=Europe/Madrid;VALUE=DATE-TIME:20110911T220000
DTEND;TZID=Europe/Madrid;VALUE=DATE-TIME:20110911T230000
DTSTAMP;VALUE=DATE-TIME:20260425T002519Z
UID:e44e95b923b23cda3145cc1c77a38bb9
CREATED;VALUE=DATE-TIME:20110911T000000Z
URL:https://caldetes.cat/document.php?id=1355
END:VEVENT
END:VCALENDAR