BEGIN:VCALENDAR
VERSION:2.0
PRODID:-//Plone.org//NONSGML plone.app.event//EN
X-WR-TIMEZONE:Europe/Madrid
BEGIN:VEVENT
SUMMARY:Escola de Sardanes
DTSTART;TZID=Europe/Madrid;VALUE=DATE-TIME:20111030T113000
DTEND;TZID=Europe/Madrid;VALUE=DATE-TIME:20111030T123000
DTSTAMP;VALUE=DATE-TIME:20260422T173714Z
UID:18102f56c3f09943d81b89126e8dd0b4
CREATED;VALUE=DATE-TIME:20111030T000000Z
LOCATION:Esplanada Can Muntanyà
ORGANIZER:Agrupació de Pensionistes i Tercera Edat amb la col·laboració de l'Ajuntament de Caldes d'Estrac
URL:https://caldetes.cat/document.php?id=1395
END:VEVENT
END:VCALENDAR