BEGIN:VCALENDAR
VERSION:2.0
PRODID:-//Plone.org//NONSGML plone.app.event//EN
X-WR-TIMEZONE:Europe/Madrid
BEGIN:VEVENT
SUMMARY:Escola de Sardanes
DTSTART;TZID=Europe/Madrid;VALUE=DATE-TIME:20111120T113000
DTEND;TZID=Europe/Madrid;VALUE=DATE-TIME:20111120T123000
DTSTAMP;VALUE=DATE-TIME:20260425T141055Z
UID:e8eae9559d9afde0441a1b86fad49ceb
CREATED;VALUE=DATE-TIME:20111120T000000Z
LOCATION:Esplanada Can Muntanyà
ORGANIZER:Agrupació de Pensionistes i Tercera Edat amb la col·laboració de l'Ajuntament de Caldes d'Estrac
URL:https://caldetes.cat/document.php?id=1398
END:VEVENT
END:VCALENDAR