BEGIN:VCALENDAR
VERSION:2.0
PRODID:-//Plone.org//NONSGML plone.app.event//EN
X-WR-TIMEZONE:Europe/Madrid
BEGIN:VEVENT
SUMMARY:Sessió commemorativa: "30 anys sense Josep Pla"
DTSTART;TZID=Europe/Madrid;VALUE=DATE-TIME:20111022T183000
DTEND;TZID=Europe/Madrid;VALUE=DATE-TIME:20111022T193000
DTSTAMP;VALUE=DATE-TIME:20260423T062312Z
UID:49313424b0698507bcf101530896d1e4
CREATED;VALUE=DATE-TIME:20111022T000000Z
LOCATION:Equipament de Promoció Econòmica i Cultural
ORGANIZER:Arts i Lletres
URL:https://caldetes.cat/document.php?id=1404
END:VEVENT
END:VCALENDAR