BEGIN:VCALENDAR
VERSION:2.0
PRODID:-//Plone.org//NONSGML plone.app.event//EN
X-WR-TIMEZONE:Europe/Madrid
BEGIN:VEVENT
SUMMARY:Visita comentada a l'exposició: "Antoni Llena. SOS: senyals de fum des d'un subsòl"
DTSTART;TZID=Europe/Madrid;VALUE=DATE-TIME:20111023T120000
DTEND;TZID=Europe/Madrid;VALUE=DATE-TIME:20111023T130000
DTSTAMP;VALUE=DATE-TIME:20260423T175238Z
UID:7526ee9898286e6e247b97188cd70fca
CREATED;VALUE=DATE-TIME:20111023T000000Z
LOCATION:Fundació Palau
ORGANIZER:Fundació Palau
URL:https://caldetes.cat/document.php?id=1405
END:VEVENT
END:VCALENDAR