BEGIN:VCALENDAR
VERSION:2.0
PRODID:-//Plone.org//NONSGML plone.app.event//EN
X-WR-TIMEZONE:Europe/Madrid
BEGIN:VEVENT
SUMMARY:Taller de massatge infantil per a infants de 0 a 12 mesos
DTSTART;TZID=Europe/Madrid;VALUE=DATE-TIME:20111026T173000
DTEND;TZID=Europe/Madrid;VALUE=DATE-TIME:20111026T183000
DTSTAMP;VALUE=DATE-TIME:20260423T012112Z
UID:9f71459dbc1089e388d2fed94fa93484
CREATED;VALUE=DATE-TIME:20111026T000000Z
LOCATION:Escola Bressol
ORGANIZER:Àrea de Joventut i Educació de l'Ajuntament de Caldes d'Estrac
URL:https://caldetes.cat/document.php?id=1406
END:VEVENT
END:VCALENDAR