BEGIN:VCALENDAR
VERSION:2.0
PRODID:-//Plone.org//NONSGML plone.app.event//EN
X-WR-TIMEZONE:Europe/Madrid
BEGIN:VEVENT
SUMMARY:Castanyada a la Sala
DTSTART;TZID=Europe/Madrid;VALUE=DATE-TIME:20111029T173000
DTEND;TZID=Europe/Madrid;VALUE=DATE-TIME:20111029T183000
DTSTAMP;VALUE=DATE-TIME:20260423T192223Z
UID:1cee8c180ef83eebf2c4eb6dde14266a
CREATED;VALUE=DATE-TIME:20111029T000000Z
LOCATION:Sala Cultural
ORGANIZER:Agrupació de Pensionistes i Tercera Edat
URL:https://caldetes.cat/document.php?id=1407
END:VEVENT
END:VCALENDAR