BEGIN:VCALENDAR
VERSION:2.0
PRODID:-//Plone.org//NONSGML plone.app.event//EN
X-WR-TIMEZONE:Europe/Madrid
BEGIN:VEVENT
SUMMARY:Espai Lúdic
DTSTART;TZID=Europe/Madrid;VALUE=DATE-TIME:20111020T110000
DTEND;TZID=Europe/Madrid;VALUE=DATE-TIME:20111020T120000
DTSTAMP;VALUE=DATE-TIME:20260425T033844Z
UID:7ca9a0fb1766e712324e8963d39a773f
CREATED;VALUE=DATE-TIME:20111020T000000Z
LOCATION:Espai Lúdic
ORGANIZER:Àrea de Serveis Socials de l'Ajuntament de Caldes d'Estrac
DESCRIPTION:sessió amb un fisioterapeuta
URL:https://caldetes.cat/document.php?id=1412
END:VEVENT
END:VCALENDAR