BEGIN:VCALENDAR
VERSION:2.0
PRODID:-//Plone.org//NONSGML plone.app.event//EN
X-WR-TIMEZONE:Europe/Madrid
BEGIN:VEVENT
SUMMARY:Visita taller en família a l'exposició Antoni Llena
DTSTART;TZID=Europe/Madrid;VALUE=DATE-TIME:20111106T120000
DTEND;TZID=Europe/Madrid;VALUE=DATE-TIME:20111106T130000
DTSTAMP;VALUE=DATE-TIME:20260422T002132Z
UID:36a227c88ba728b1be475cbe550c6575
CREATED;VALUE=DATE-TIME:20111106T000000Z
LOCATION:Fundació Palau
ORGANIZER:Fundació Palau
DESCRIPTION:"SOS: Senyals de fum des d'un subsòl"
URL:https://caldetes.cat/document.php?id=1419
END:VEVENT
END:VCALENDAR