BEGIN:VCALENDAR
VERSION:2.0
PRODID:-//Plone.org//NONSGML plone.app.event//EN
X-WR-TIMEZONE:Europe/Madrid
BEGIN:VEVENT
SUMMARY:Parada de productes de l'Índia
DTSTART;TZID=Europe/Madrid;VALUE=DATE-TIME:20111113T110000
DTEND;TZID=Europe/Madrid;VALUE=DATE-TIME:20111113T120000
DTSTAMP;VALUE=DATE-TIME:20260421T202115Z
UID:f1ca41a7428c51089a37451af0e619df
CREATED;VALUE=DATE-TIME:20111113T000000Z
LOCATION:Parc Joan Maragall
ORGANIZER:Associació "El Somriure dels Nens"
COMMENT:Durada: d'11 a 14:30 h
URL:https://caldetes.cat/document.php?id=1420
END:VEVENT
END:VCALENDAR