BEGIN:VCALENDAR
VERSION:2.0
PRODID:-//Plone.org//NONSGML plone.app.event//EN
X-WR-TIMEZONE:Europe/Madrid
BEGIN:VEVENT
SUMMARY:Xerrada: "Com han canviat els temps!
DTSTART;TZID=Europe/Madrid;VALUE=DATE-TIME:20111116T170000
DTEND;TZID=Europe/Madrid;VALUE=DATE-TIME:20111116T180000
DTSTAMP;VALUE=DATE-TIME:20260424T200900Z
UID:eb2e4fd599c587c6c44613d1631342eb
CREATED;VALUE=DATE-TIME:20111116T000000Z
LOCATION:Equipament de Promoció Econòmica i Cultural
ORGANIZER:Àrea d'Atenció Social de l'Ajuntament de Caldes d'Estrac
URL:https://caldetes.cat/document.php?id=1421
END:VEVENT
END:VCALENDAR