BEGIN:VCALENDAR
VERSION:2.0
PRODID:-//Plone.org//NONSGML plone.app.event//EN
X-WR-TIMEZONE:Europe/Madrid
BEGIN:VEVENT
SUMMARY:Inici del curs intensiu d'iniciació a Internet
DTSTART;TZID=Europe/Madrid;VALUE=DATE-TIME:20111121T183000
DTEND;TZID=Europe/Madrid;VALUE=DATE-TIME:20111121T193000
DTSTAMP;VALUE=DATE-TIME:20260426T013629Z
UID:e7911609fed99152cd06444888604f00
CREATED;VALUE=DATE-TIME:20111121T000000Z
LOCATION:Biblioteca Can Milans
ORGANIZER:Biblioteca Can Milans
URL:https://caldetes.cat/document.php?id=1424
END:VEVENT
END:VCALENDAR