BEGIN:VCALENDAR
VERSION:2.0
PRODID:-//Plone.org//NONSGML plone.app.event//EN
X-WR-TIMEZONE:Europe/Madrid
BEGIN:VEVENT
SUMMARY:Audioconte i taller
DTSTART;TZID=Europe/Madrid;VALUE=DATE-TIME:20111125T180000
DTEND;TZID=Europe/Madrid;VALUE=DATE-TIME:20111125T190000
DTSTAMP;VALUE=DATE-TIME:20260423T120301Z
UID:f5f62e5baa4a6423b8191fe0cb1e279d
CREATED;VALUE=DATE-TIME:20111125T000000Z
LOCATION:Biblioteca Can Milans
ORGANIZER:Biblioteca Can Milans
DESCRIPTION:"Lali i l'aventura d'aniversari"
URL:https://caldetes.cat/document.php?id=1425
END:VEVENT
END:VCALENDAR