BEGIN:VCALENDAR
VERSION:2.0
PRODID:-//Plone.org//NONSGML plone.app.event//EN
X-WR-TIMEZONE:Europe/Madrid
BEGIN:VEVENT
SUMMARY:Dissabte (22h) i diumenge (19h), representació teatral de l'adaptació de l'obra "El sopar dels idiotes"
DTSTART;TZID=Europe/Madrid;VALUE=DATE-TIME:20111126T220000
DTEND;TZID=Europe/Madrid;VALUE=DATE-TIME:20111126T230000
DTSTAMP;VALUE=DATE-TIME:20260421T144221Z
UID:bcfc0bd7c8177dd1b57afa65aef9a09e
CREATED;VALUE=DATE-TIME:20111126T000000Z
LOCATION:Sala Cultural
ORGANIZER:Associació Cultural Strak Teatre
DESCRIPTION:a càrrec d'Strak Teatre
URL:https://caldetes.cat/document.php?id=1435
END:VEVENT
END:VCALENDAR