BEGIN:VCALENDAR
VERSION:2.0
PRODID:-//Plone.org//NONSGML plone.app.event//EN
X-WR-TIMEZONE:Europe/Madrid
BEGIN:VEVENT
SUMMARY:Partit de Futbol Sala. Sal Marina Caldes d'Estrac vs Canet FS 82
DTSTART;TZID=Europe/Madrid;VALUE=DATE-TIME:20111119T180000
DTEND;TZID=Europe/Madrid;VALUE=DATE-TIME:20111119T190000
DTSTAMP;VALUE=DATE-TIME:20260423T062146Z
UID:5a8ed33164147a0240b2dc41fa20019b
CREATED;VALUE=DATE-TIME:20111119T000000Z
CATEGORIES:Esports
LOCATION:Pavelló Poliesportiu Municipal
URL:https://caldetes.cat/document.php?id=1452
END:VEVENT
END:VCALENDAR