BEGIN:VCALENDAR
VERSION:2.0
PRODID:-//Plone.org//NONSGML plone.app.event//EN
X-WR-TIMEZONE:Europe/Madrid
BEGIN:VEVENT
SUMMARY:Partit de Futbol Sala. Caldes d'Estrac FS vs FS Vilalba SB
DTSTART;TZID=Europe/Madrid;VALUE=DATE-TIME:20111203T123000
DTEND;TZID=Europe/Madrid;VALUE=DATE-TIME:20111203T133000
DTSTAMP;VALUE=DATE-TIME:20260423T024525Z
UID:d6f52fc8401c06a08b30e76c30188869
CREATED;VALUE=DATE-TIME:20111203T000000Z
CATEGORIES:Esports
LOCATION:Pavelló Poliesportiu Municipal
URL:https://caldetes.cat/document.php?id=1455
END:VEVENT
END:VCALENDAR