BEGIN:VCALENDAR
VERSION:2.0
PRODID:-//Plone.org//NONSGML plone.app.event//EN
X-WR-TIMEZONE:Europe/Madrid
BEGIN:VEVENT
SUMMARY:El sopar dels idiotes. Teatre
DTSTART;TZID=Europe/Madrid;VALUE=DATE-TIME:20111126T220000
DTEND;TZID=Europe/Madrid;VALUE=DATE-TIME:20111126T230000
DTSTAMP;VALUE=DATE-TIME:20260422T014429Z
UID:a7a2f951094ae0e226d987654ad3384d
CREATED;VALUE=DATE-TIME:20111126T000000Z
CATEGORIES:Teatre
LOCATION:Sala Cultural
ORGANIZER:Cia Strak Teatre, amb la col·laboració de la Regidoria de Cultura de l'Ajuntament de Caldes d'Estrac
URL:https://caldetes.cat/document.php?id=1457
END:VEVENT
END:VCALENDAR