BEGIN:VCALENDAR
VERSION:2.0
PRODID:-//Plone.org//NONSGML plone.app.event//EN
X-WR-TIMEZONE:Europe/Madrid
BEGIN:VEVENT
SUMMARY:Lectura del manifest del Dia Internacional contra la Violència envers les Dones
DTSTART;TZID=Europe/Madrid;VALUE=DATE-TIME:20111125T120000
DTEND;TZID=Europe/Madrid;VALUE=DATE-TIME:20111125T130000
DTSTAMP;VALUE=DATE-TIME:20260423T222505Z
UID:364be997b26c80b6c92498236dc81369
CREATED;VALUE=DATE-TIME:20111125T000000Z
LOCATION:Plaça de la Vila
URL:https://caldetes.cat/document.php?id=1462
END:VEVENT
END:VCALENDAR