BEGIN:VCALENDAR
VERSION:2.0
PRODID:-//Plone.org//NONSGML plone.app.event//EN
X-WR-TIMEZONE:Europe/Madrid
BEGIN:VEVENT
SUMMARY:Hora del conte
DTSTART;TZID=Europe/Madrid;VALUE=DATE-TIME:20111202T180000
DTEND;TZID=Europe/Madrid;VALUE=DATE-TIME:20111202T190000
DTSTAMP;VALUE=DATE-TIME:20260423T235408Z
UID:daafc9d389a96c516a49e88f1c1f1b46
CREATED;VALUE=DATE-TIME:20111202T000000Z
LOCATION:Biblioteca Can Milans
ORGANIZER:Biblioteca Can Milans
DESCRIPTION:Les S.I. (Super Iaies) , a càrrec de Mon Mas
URL:https://caldetes.cat/document.php?id=1463
END:VEVENT
END:VCALENDAR