BEGIN:VCALENDAR
VERSION:2.0
PRODID:-//Plone.org//NONSGML plone.app.event//EN
X-WR-TIMEZONE:Europe/Madrid
BEGIN:VEVENT
SUMMARY:Sessió pública informativa. Pressupostos 2012
DTSTART;TZID=Europe/Madrid;VALUE=DATE-TIME:20111203T170000
DTEND;TZID=Europe/Madrid;VALUE=DATE-TIME:20111203T180000
DTSTAMP;VALUE=DATE-TIME:20260424T030442Z
UID:4ec0013fc4ec231cb2f024541a2d1cbc
CREATED;VALUE=DATE-TIME:20111203T000000Z
LOCATION:Equipament de Promoció Econòmica i Cultural
ORGANIZER:Ajuntament de Caldes d'Estrac
DESCRIPTION:a càrrec de l´Alcalde de Caldes d´Estrac, Joaquim Arnó
URL:https://caldetes.cat/document.php?id=1464
END:VEVENT
END:VCALENDAR