BEGIN:VCALENDAR
VERSION:2.0
PRODID:-//Plone.org//NONSGML plone.app.event//EN
X-WR-TIMEZONE:Europe/Madrid
BEGIN:VEVENT
SUMMARY:Ball popular
DTSTART;TZID=Europe/Madrid;VALUE=DATE-TIME:20111203T190000
DTEND;TZID=Europe/Madrid;VALUE=DATE-TIME:20111203T200000
DTSTAMP;VALUE=DATE-TIME:20260424T200719Z
UID:11000c99515a0d01625e88ec82b34dc9
CREATED;VALUE=DATE-TIME:20111203T000000Z
LOCATION:Sala Cultural
ORGANIZER:Agrupació de Pensionistes i Tercera Edat
COMMENT:Preu: 1,50 &euro;
URL:https://caldetes.cat/document.php?id=1465
END:VEVENT
END:VCALENDAR