BEGIN:VCALENDAR
VERSION:2.0
PRODID:-//Plone.org//NONSGML plone.app.event//EN
X-WR-TIMEZONE:Europe/Madrid
BEGIN:VEVENT
SUMMARY:4 pobles per La Marató
DTSTART;TZID=Europe/Madrid;VALUE=DATE-TIME:20111204T110000
DTEND;TZID=Europe/Madrid;VALUE=DATE-TIME:20111204T120000
DTSTAMP;VALUE=DATE-TIME:20260421T202100Z
UID:67df166cd311c0d078e42cd2211d2666
CREATED;VALUE=DATE-TIME:20111204T000000Z
LOCATION:Plaça de les Barques
ORGANIZER:Ajuntament de Caldes d'Estrac; Geganters i Grallers de Caldes d'Estrac, Diables d'Estrac, Arrels Cultura i AMPA CEIP Sagrada Família
URL:https://caldetes.cat/document.php?id=1466
END:VEVENT
END:VCALENDAR