BEGIN:VCALENDAR
VERSION:2.0
PRODID:-//Plone.org//NONSGML plone.app.event//EN
X-WR-TIMEZONE:Europe/Madrid
BEGIN:VEVENT
SUMMARY:Taller familiar: "Fem una joguina amb Palau Oller"
DTSTART;TZID=Europe/Madrid;VALUE=DATE-TIME:20111204T120000
DTEND;TZID=Europe/Madrid;VALUE=DATE-TIME:20111204T130000
DTSTAMP;VALUE=DATE-TIME:20260420T051220Z
UID:2f1e2e1b69406bfdf741691791035d4a
CREATED;VALUE=DATE-TIME:20111204T000000Z
LOCATION:Fundació Palau
ORGANIZER:Fundació Palau
DESCRIPTION:a càrrec de Viure l'Art
URL:https://caldetes.cat/document.php?id=1468
END:VEVENT
END:VCALENDAR