BEGIN:VCALENDAR
VERSION:2.0
PRODID:-//Plone.org//NONSGML plone.app.event//EN
X-WR-TIMEZONE:Europe/Madrid
BEGIN:VEVENT
SUMMARY:Petanca. Torneig social de Festa Major d'Hivern
DTSTART;TZID=Europe/Madrid;VALUE=DATE-TIME:20111206T113000
DTEND;TZID=Europe/Madrid;VALUE=DATE-TIME:20111206T123000
DTSTAMP;VALUE=DATE-TIME:20260422T155906Z
UID:71cf0d5c3c19fd95550592a1e557b0f6
CREATED;VALUE=DATE-TIME:20111206T000000Z
LOCATION:Pistes Municipals de Petanca
ORGANIZER:Club Petanca Caldes d'Estrac
URL:https://caldetes.cat/document.php?id=1469
END:VEVENT
END:VCALENDAR