BEGIN:VCALENDAR
VERSION:2.0
PRODID:-//Plone.org//NONSGML plone.app.event//EN
X-WR-TIMEZONE:Europe/Madrid
BEGIN:VEVENT
SUMMARY:Petanca. Dinar de germanor
DTSTART;TZID=Europe/Madrid;VALUE=DATE-TIME:20111208T130000
DTEND;TZID=Europe/Madrid;VALUE=DATE-TIME:20111208T140000
DTSTAMP;VALUE=DATE-TIME:20260425T052823Z
UID:6c244aa255172fd9b7411d726a8e386e
CREATED;VALUE=DATE-TIME:20111208T000000Z
ORGANIZER:Club Petanca Caldes d'Estrac
URL:https://caldetes.cat/document.php?id=1470
END:VEVENT
END:VCALENDAR