BEGIN:VCALENDAR
VERSION:2.0
PRODID:-//Plone.org//NONSGML plone.app.event//EN
X-WR-TIMEZONE:Europe/Madrid
BEGIN:VEVENT
SUMMARY:Cercavila de percussió  &OpenCurlyDoubleQuote;ATABALALAIAIA"
DTSTART;TZID=Europe/Madrid;VALUE=DATE-TIME:20111210T170000
DTEND;TZID=Europe/Madrid;VALUE=DATE-TIME:20111210T180000
DTSTAMP;VALUE=DATE-TIME:20260426T012603Z
UID:ca0757ccd82ed0d14660c027c0ae8c85
CREATED;VALUE=DATE-TIME:20111210T000000Z
LOCATION:Carreró
ORGANIZER:Espai Jove amb la col·laboració dels Diables d'Estrac
URL:https://caldetes.cat/document.php?id=1473
END:VEVENT
END:VCALENDAR