BEGIN:VCALENDAR
VERSION:2.0
PRODID:-//Plone.org//NONSGML plone.app.event//EN
X-WR-TIMEZONE:Europe/Madrid
BEGIN:VEVENT
SUMMARY:Plantada de Gegants
DTSTART;TZID=Europe/Madrid;VALUE=DATE-TIME:20111211T100000
DTEND;TZID=Europe/Madrid;VALUE=DATE-TIME:20111211T110000
DTSTAMP;VALUE=DATE-TIME:20260422T175557Z
UID:645c1bff4b2440b1f6cebaf6485330a6
CREATED;VALUE=DATE-TIME:20111211T000000Z
LOCATION:Esplanada Can Muntanyà
ORGANIZER:Colla de Geganters i Grallers de Caldes d'Estrac
URL:https://caldetes.cat/document.php?id=1475
END:VEVENT
END:VCALENDAR