BEGIN:VCALENDAR
VERSION:2.0
PRODID:-//Plone.org//NONSGML plone.app.event//EN
X-WR-TIMEZONE:Europe/Madrid
BEGIN:VEVENT
SUMMARY:Acitivitats infantils
DTSTART;TZID=Europe/Madrid;VALUE=DATE-TIME:20111213T100000
DTEND;TZID=Europe/Madrid;VALUE=DATE-TIME:20111213T110000
DTSTAMP;VALUE=DATE-TIME:20260422T105936Z
UID:3458f39b3809f90b297361469b2892f6
CREATED;VALUE=DATE-TIME:20111213T000000Z
LOCATION:Esplanada Can Muntanyà
ORGANIZER:Ajuntament de Caldes d'Estrac i associacions de Caldes
URL:https://caldetes.cat/document.php?id=1477
END:VEVENT
END:VCALENDAR