BEGIN:VCALENDAR
VERSION:2.0
PRODID:-//Plone.org//NONSGML plone.app.event//EN
X-WR-TIMEZONE:Europe/Madrid
BEGIN:VEVENT
SUMMARY:Audioconte i taller: "El pessebre encantat"
DTSTART;TZID=Europe/Madrid;VALUE=DATE-TIME:20111216T180000
DTEND;TZID=Europe/Madrid;VALUE=DATE-TIME:20111216T190000
DTSTAMP;VALUE=DATE-TIME:20260425T013117Z
UID:9a2e2164b59286d25712a90a7a6c2290
CREATED;VALUE=DATE-TIME:20111216T000000Z
LOCATION:Biblioteca Can Milans
ORGANIZER:Biblioteca Can Milans
URL:https://caldetes.cat/document.php?id=1480
END:VEVENT
END:VCALENDAR