BEGIN:VCALENDAR
VERSION:2.0
PRODID:-//Plone.org//NONSGML plone.app.event//EN
X-WR-TIMEZONE:Europe/Madrid
BEGIN:VEVENT
SUMMARY:Concert de Nadal
DTSTART;TZID=Europe/Madrid;VALUE=DATE-TIME:20111218T120000
DTEND;TZID=Europe/Madrid;VALUE=DATE-TIME:20111218T130000
DTSTAMP;VALUE=DATE-TIME:20260425T003324Z
UID:cddee2c3a1a5d234e859e6fd815cac4b
CREATED;VALUE=DATE-TIME:20111218T000000Z
LOCATION:Capella del Carme
ORGANIZER:Arrels Cultura i Agrupació de Pensionistes i Tercera Edat amb la col·laoboració de la Parròquia de Santa Maria i l'Ajuntament de Caldes d'Estrac
URL:https://caldetes.cat/document.php?id=1481
END:VEVENT
END:VCALENDAR