BEGIN:VCALENDAR
VERSION:2.0
PRODID:-//Plone.org//NONSGML plone.app.event//EN
X-WR-TIMEZONE:Europe/Madrid
BEGIN:VEVENT
SUMMARY:Caga Tió
DTSTART;TZID=Europe/Madrid;VALUE=DATE-TIME:20111225T113000
DTEND;TZID=Europe/Madrid;VALUE=DATE-TIME:20111225T123000
DTSTAMP;VALUE=DATE-TIME:20260420T051235Z
UID:0ddbe6bdc40705840e8f3e3dd95425cc
CREATED;VALUE=DATE-TIME:20111225T000000Z
LOCATION:Plaça de la Vila
ORGANIZER:Colla de Geganters i Grallers de Caldes d'Estrac amb la col·laboració de l'Ajuntament de Caldes d'Estrac
URL:https://caldetes.cat/document.php?id=1482
END:VEVENT
END:VCALENDAR