BEGIN:VCALENDAR
VERSION:2.0
PRODID:-//Plone.org//NONSGML plone.app.event//EN
X-WR-TIMEZONE:Europe/Madrid
BEGIN:VEVENT
SUMMARY:Excursió de PreNadal de l'Agrupació de Pensionistes
DTSTART;TZID=Europe/Madrid;VALUE=DATE-TIME:20111218T000000
DTEND;TZID=Europe/Madrid;VALUE=DATE-TIME:20111218T010000
DTSTAMP;VALUE=DATE-TIME:20260423T235438Z
UID:4e99165ccb4d06b1b0eef1ea43d0acfb
CREATED;VALUE=DATE-TIME:20111218T000000Z
ORGANIZER:Agrupació de Pensionistes i Tercera Edat
URL:https://caldetes.cat/document.php?id=1483
END:VEVENT
END:VCALENDAR