BEGIN:VCALENDAR
VERSION:2.0
PRODID:-//Plone.org//NONSGML plone.app.event//EN
X-WR-TIMEZONE:Europe/Madrid
BEGIN:VEVENT
SUMMARY:Missa del Gall
DTSTART;TZID=Europe/Madrid;VALUE=DATE-TIME:20111224T000000
DTEND;TZID=Europe/Madrid;VALUE=DATE-TIME:20111224T010000
DTSTAMP;VALUE=DATE-TIME:20260423T025308Z
UID:fa36fba3be32c5b702f914a47e776c4d
CREATED;VALUE=DATE-TIME:20111224T000000Z
LOCATION:Parròquia Santa Maria
ORGANIZER:Parròquia de Santa Maria
URL:https://caldetes.cat/document.php?id=1484
END:VEVENT
END:VCALENDAR