BEGIN:VCALENDAR
VERSION:2.0
PRODID:-//Plone.org//NONSGML plone.app.event//EN
X-WR-TIMEZONE:Europe/Madrid
BEGIN:VEVENT
SUMMARY:Arribada de Ses Majestats els Reis de l'Orient a Caldes d'Estrac
DTSTART;TZID=Europe/Madrid;VALUE=DATE-TIME:20120105T180000
DTEND;TZID=Europe/Madrid;VALUE=DATE-TIME:20120105T190000
DTSTAMP;VALUE=DATE-TIME:20260425T164442Z
UID:1f65130aac1afde265993a475b36a1c5
CREATED;VALUE=DATE-TIME:20120105T000000Z
ORGANIZER:Comissió Cavalcada de Reis
URL:https://caldetes.cat/document.php?id=1485
END:VEVENT
END:VCALENDAR