BEGIN:VCALENDAR
VERSION:2.0
PRODID:-//Plone.org//NONSGML plone.app.event//EN
X-WR-TIMEZONE:Europe/Madrid
BEGIN:VEVENT
SUMMARY:Petit Correfoc d'Hivern
DTSTART;TZID=Europe/Madrid;VALUE=DATE-TIME:20111210T200000
DTEND;TZID=Europe/Madrid;VALUE=DATE-TIME:20111210T210000
DTSTAMP;VALUE=DATE-TIME:20260423T024602Z
UID:95789bb17732b7db7da393001071fe66
CREATED;VALUE=DATE-TIME:20111210T000000Z
LOCATION:Soritda: Pl. St. Antoni
ORGANIZER:Diables d'Estrac amb la col·laboració de l'Ajuntament de Caldes d'Estrac
URL:https://caldetes.cat/document.php?id=1492
END:VEVENT
END:VCALENDAR