BEGIN:VCALENDAR
VERSION:2.0
PRODID:-//Plone.org//NONSGML plone.app.event//EN
X-WR-TIMEZONE:Europe/Madrid
BEGIN:VEVENT
SUMMARY:Hora del conte
DTSTART;TZID=Europe/Madrid;VALUE=DATE-TIME:20120120T180000
DTEND;TZID=Europe/Madrid;VALUE=DATE-TIME:20120120T190000
DTSTAMP;VALUE=DATE-TIME:20260425T142831Z
UID:fe934d387e174945d0f46b2c4ee45e71
CREATED;VALUE=DATE-TIME:20120120T000000Z
LOCATION:Biblioteca Can Milans
ORGANIZER:Biblioteca Can Milans
DESCRIPTION:a càrrec de Sílvia Serra
URL:https://caldetes.cat/document.php?id=1495
END:VEVENT
END:VCALENDAR