BEGIN:VCALENDAR
VERSION:2.0
PRODID:-//Plone.org//NONSGML plone.app.event//EN
X-WR-TIMEZONE:Europe/Madrid
BEGIN:VEVENT
SUMMARY:Futbol Sala. Categoria Benjamí mixte
DTSTART;TZID=Europe/Madrid;VALUE=DATE-TIME:20120114T123000
DTEND;TZID=Europe/Madrid;VALUE=DATE-TIME:20120114T133000
DTSTAMP;VALUE=DATE-TIME:20260426T000716Z
UID:10845e0e05c911c2d53cbe30eedb68b4
CREATED;VALUE=DATE-TIME:20120114T000000Z
LOCATION:Pavelló Poliesportiu Municipal
ORGANIZER:Futbol Sala Caldes d'Estrac
DESCRIPTION:FS Caldes d'Estrac vs FS Olimpic Arg. A
URL:https://caldetes.cat/document.php?id=1497
END:VEVENT
END:VCALENDAR