BEGIN:VCALENDAR
VERSION:2.0
PRODID:-//Plone.org//NONSGML plone.app.event//EN
X-WR-TIMEZONE:Europe/Madrid
BEGIN:VEVENT
SUMMARY:Futbol Sala. Categoria Benjamí mixte
DTSTART;TZID=Europe/Madrid;VALUE=DATE-TIME:20120121T123000
DTEND;TZID=Europe/Madrid;VALUE=DATE-TIME:20120121T133000
DTSTAMP;VALUE=DATE-TIME:20260423T024541Z
UID:4d306c1e91e50b5df7d05ad829de7a6b
CREATED;VALUE=DATE-TIME:20120121T000000Z
LOCATION:Pavelló Poliesportiu Municipal
ORGANIZER:Futbol Sala Caldes d'Estrac
DESCRIPTION:FS Caldes d'Estrac vs Fs Òrrius
URL:https://caldetes.cat/document.php?id=1498
END:VEVENT
END:VCALENDAR