BEGIN:VCALENDAR
VERSION:2.0
PRODID:-//Plone.org//NONSGML plone.app.event//EN
X-WR-TIMEZONE:Europe/Madrid
BEGIN:VEVENT
SUMMARY:Els diumenges de la Fundació
DTSTART;TZID=Europe/Madrid;VALUE=DATE-TIME:20120108T120000
DTEND;TZID=Europe/Madrid;VALUE=DATE-TIME:20120108T130000
DTSTAMP;VALUE=DATE-TIME:20260423T173231Z
UID:0633b0b5bcdec2aaae368a97155da38f
CREATED;VALUE=DATE-TIME:20120108T000000Z
LOCATION:Fundació Palau
ORGANIZER:Fundació Palau amb la col·laboració de l'Ajuntament de Caldes d'Estrac i la Diputació de Barcelona
DESCRIPTION:Poemexpress
URL:https://caldetes.cat/document.php?id=1503
END:VEVENT
END:VCALENDAR