BEGIN:VCALENDAR
VERSION:2.0
PRODID:-//Plone.org//NONSGML plone.app.event//EN
X-WR-TIMEZONE:Europe/Madrid
BEGIN:VEVENT
SUMMARY:Inauguració de l'exposició: "Joan Ponç. Capses secretes 1975-1980"
DTSTART;TZID=Europe/Madrid;VALUE=DATE-TIME:20120115T123000
DTEND;TZID=Europe/Madrid;VALUE=DATE-TIME:20120115T133000
DTSTAMP;VALUE=DATE-TIME:20260423T163411Z
UID:a6373450140623f97a13b35c8e0caba9
CREATED;VALUE=DATE-TIME:20120115T000000Z
LOCATION:Fundació Palau
ORGANIZER:Diputació de Barcelona i Associació Joan Ponç amb la col·laboració de la Fundació Palau i l'Ajuntament de Caldes d'Estrac
URL:https://caldetes.cat/document.php?id=1509
END:VEVENT
END:VCALENDAR