BEGIN:VCALENDAR
VERSION:2.0
PRODID:-//Plone.org//NONSGML plone.app.event//EN
X-WR-TIMEZONE:Europe/Madrid
BEGIN:VEVENT
SUMMARY:Curs d'Internet a la Biblioteca
DTSTART;TZID=Europe/Madrid;VALUE=DATE-TIME:20120206T180000
DTEND;TZID=Europe/Madrid;VALUE=DATE-TIME:20120206T190000
DTSTAMP;VALUE=DATE-TIME:20260424T083520Z
UID:2681a39a76cab2ec3ed1113777c37ae6
CREATED;VALUE=DATE-TIME:20120206T000000Z
LOCATION:Biblioteca Can Milans
ORGANIZER:Biblioteca Can Milans
URL:https://caldetes.cat/document.php?id=1514
END:VEVENT
END:VCALENDAR