BEGIN:VCALENDAR
VERSION:2.0
PRODID:-//Plone.org//NONSGML plone.app.event//EN
X-WR-TIMEZONE:Europe/Madrid
BEGIN:VEVENT
SUMMARY:Hora del conte
DTSTART;TZID=Europe/Madrid;VALUE=DATE-TIME:20120210T180000
DTEND;TZID=Europe/Madrid;VALUE=DATE-TIME:20120210T190000
DTSTAMP;VALUE=DATE-TIME:20260422T143857Z
UID:977ef92e6e85763fb5238da03c350049
CREATED;VALUE=DATE-TIME:20120210T000000Z
LOCATION:Biblioteca Can Milans
ORGANIZER:Biblioteca Can Milans
DESCRIPTION:a càrrec de Fèlix Cucurull
URL:https://caldetes.cat/document.php?id=1516
END:VEVENT
END:VCALENDAR