BEGIN:VCALENDAR
VERSION:2.0
PRODID:-//Plone.org//NONSGML plone.app.event//EN
X-WR-TIMEZONE:Europe/Madrid
BEGIN:VEVENT
SUMMARY:III Trobada del Club de Lectura (Cometas en el cielo)
DTSTART;TZID=Europe/Madrid;VALUE=DATE-TIME:20120218T110000
DTEND;TZID=Europe/Madrid;VALUE=DATE-TIME:20120218T120000
DTSTAMP;VALUE=DATE-TIME:20260422T164411Z
UID:97ee01a906707765de442c1302a6cb12
CREATED;VALUE=DATE-TIME:20120218T000000Z
LOCATION:Biblioteca Can Milans
ORGANIZER:Biblioteca Can Milans
URL:https://caldetes.cat/document.php?id=1518
END:VEVENT
END:VCALENDAR