BEGIN:VCALENDAR
VERSION:2.0
PRODID:-//Plone.org//NONSGML plone.app.event//EN
X-WR-TIMEZONE:Europe/Madrid
BEGIN:VEVENT
SUMMARY:Futbol Sala. 1r equip
DTSTART;TZID=Europe/Madrid;VALUE=DATE-TIME:20120204T180000
DTEND;TZID=Europe/Madrid;VALUE=DATE-TIME:20120204T190000
DTSTAMP;VALUE=DATE-TIME:20260420T051148Z
UID:3d1187a6edb0f0fff4248c29e2e20517
CREATED;VALUE=DATE-TIME:20120204T000000Z
LOCATION:Pavelló Poliesportiu Municipal
ORGANIZER:Futbol Sala Caldes d'Estrac
DESCRIPTION:Sal Marina Caldes d'Estrac Futbol Sala "A" vs Fundació Priv. Esp. Mataró "A"
URL:https://caldetes.cat/document.php?id=1519
END:VEVENT
END:VCALENDAR