BEGIN:VCALENDAR
VERSION:2.0
PRODID:-//Plone.org//NONSGML plone.app.event//EN
X-WR-TIMEZONE:Europe/Madrid
BEGIN:VEVENT
SUMMARY:Futbol Sala. 1r equip
DTSTART;TZID=Europe/Madrid;VALUE=DATE-TIME:20120211T180000
DTEND;TZID=Europe/Madrid;VALUE=DATE-TIME:20120211T190000
DTSTAMP;VALUE=DATE-TIME:20260422T105952Z
UID:50595b054a51c4e6c25d369731e149c9
CREATED;VALUE=DATE-TIME:20120211T000000Z
LOCATION:Pavelló Poliesportiu Municipal
ORGANIZER:Futbol Sala Caldes d'Estrac
DESCRIPTION:Sal Marina Caldes d'Estrac Futbol Sala "A" vs F.S. Bonaire Aquanet "A"
URL:https://caldetes.cat/document.php?id=1520
END:VEVENT
END:VCALENDAR