BEGIN:VCALENDAR
VERSION:2.0
PRODID:-//Plone.org//NONSGML plone.app.event//EN
X-WR-TIMEZONE:Europe/Madrid
BEGIN:VEVENT
SUMMARY:Bàsquet Cadet Masculí
DTSTART;TZID=Europe/Madrid;VALUE=DATE-TIME:20120121T111500
DTEND;TZID=Europe/Madrid;VALUE=DATE-TIME:20120121T121500
DTSTAMP;VALUE=DATE-TIME:20260423T145003Z
UID:159fb0b77fb4290a21c1768e059806f6
CREATED;VALUE=DATE-TIME:20120121T000000Z
LOCATION:Pavelló Poliesportiu Municipal
ORGANIZER:Club Basquet SAFA Estrac
DESCRIPTION:Bàsquet 3 Viles- CB Vila de Montornès
URL:https://caldetes.cat/document.php?id=1521
END:VEVENT
END:VCALENDAR