BEGIN:VCALENDAR
VERSION:2.0
PRODID:-//Plone.org//NONSGML plone.app.event//EN
X-WR-TIMEZONE:Europe/Madrid
BEGIN:VEVENT
SUMMARY:Bàsquet Infantil Masculí
DTSTART;TZID=Europe/Madrid;VALUE=DATE-TIME:20120114T094500
DTEND;TZID=Europe/Madrid;VALUE=DATE-TIME:20120114T104500
DTSTAMP;VALUE=DATE-TIME:20260424T123701Z
UID:dfb8aea0b9ce129992275aa71c96d7a6
CREATED;VALUE=DATE-TIME:20120114T000000Z
LOCATION:Pavelló Poliesportiu Municipal
ORGANIZER:Club Basquet SAFA Estrac
DESCRIPTION:Bàsquet 3 Viles- AECAM
URL:https://caldetes.cat/document.php?id=1522
END:VEVENT
END:VCALENDAR